BEGIN:VCALENDAR
VERSION:2.0
PRODID:-//wp-events-plugin.com//7.2.3.1//EN
TZID:America/Boise
X-WR-TIMEZONE:America/Boise
BEGIN:VEVENT
UID:1008@visitsalmonvalley.com
DTSTART;TZID=America/Boise:20260428T173000
DTEND;TZID=America/Boise:20260428T173000
DTSTAMP:20260421T174112Z
URL:https://www.visitsalmonvalley.com/salmon-events/salmons-got-talent/
SUMMARY:Salmon's Got Talent
DESCRIPTION:Salmon’s got talent April 28 next Tuesday. Junior show starts
  5:30 at the lynch center. Come hungry! Excited to see everyone there.
CATEGORIES:High School,Middle School,SJSHS Related Events
LOCATION:Lynch Center\, 401 S Warpath St\, Salmon\, ID\, 83467\, Lemhi Coun
 ty\, United States
GEO:45.170271;-113.886296
X-APPLE-STRUCTURED-LOCATION;VALUE=URI;X-ADDRESS=401 S Warpath St\, Salmon\,
  ID\, 83467\, Lemhi County\, United States;X-APPLE-RADIUS=100;X-TITLE=Lync
 h Center:geo:45.170271,-113.886296
END:VEVENT
BEGIN:VTIMEZONE
TZID:America/Boise
X-LIC-LOCATION:America/Boise
BEGIN:DAYLIGHT
DTSTART:20260308T030000
TZOFFSETFROM:-0700
TZOFFSETTO:-0600
TZNAME:MDT
END:DAYLIGHT
END:VTIMEZONE
END:VCALENDAR