BEGIN:VCALENDAR
VERSION:2.0
PRODID:-//wp-events-plugin.com//7.2.3.1//EN
TZID:America/Boise
X-WR-TIMEZONE:America/Boise
BEGIN:VEVENT
UID:99@visitsalmonvalley.com
DTSTART;TZID=America/Boise;VALUE=DATE:20190704
DTEND;TZID=America/Boise;VALUE=DATE:20190707
DTSTAMP:20190420T190934Z
URL:https://www.visitsalmonvalley.com/event-recurring/salmon-river-days/
SUMMARY:Salmon River Days
DESCRIPTION:Music\, auctions\, a rodeo\, fireworks\, parade\, a demolition 
 derby\, and so much more family-friendly fun.
ATTACH;FMTTYPE=image/jpeg:https://www.visitsalmonvalley.com/wp-content/upl
 oads/2019/04/Salmon-4th-of-July-downtown.jpg
CATEGORIES:Food,Music,Nightlife,Seasonal,Unique to Salmon
END:VEVENT
BEGIN:VTIMEZONE
TZID:America/Boise
X-LIC-LOCATION:America/Boise
BEGIN:DAYLIGHT
DTSTART:20190310T030000
TZOFFSETFROM:-0700
TZOFFSETTO:-0600
TZNAME:MDT
END:DAYLIGHT
END:VTIMEZONE
END:VCALENDAR