BEGIN:VCALENDAR
VERSION:2.0
PRODID:-//wp-events-plugin.com//7.2.3.1//EN
TZID:America/Boise
X-WR-TIMEZONE:America/Boise
BEGIN:VEVENT
UID:863@visitsalmonvalley.com
DTSTART;TZID=America/Boise:20250702T000000
DTEND;TZID=America/Boise:20250705T000000
DTSTAMP:20250604T204203Z
URL:https://www.visitsalmonvalley.com/salmon-events/salmon-river-days-4/
SUMMARY:SALMON RIVER DAYS!
DESCRIPTION:\n\n\ne This years dates are July  2nd-5th!\nJuly 2nd- Travis 
 Hardy Band and @shakewell.band at Sweetwater Hollow\, doors open at 5:30\n
 July 4th- Leadore ~ Parade\,\nSalmon ~ Discovery Hill Fireworks\nJuly 5th-
  Salmon ~ Parade at 11am\,  ~ Demo Derby at 5:30pm\n\n\n\n\nStay tuned fo
 r more Salmon River Day's information and details!\n\n\n
CATEGORIES:Community Events
END:VEVENT
BEGIN:VTIMEZONE
TZID:America/Boise
X-LIC-LOCATION:America/Boise
BEGIN:DAYLIGHT
DTSTART:20250309T030000
TZOFFSETFROM:-0700
TZOFFSETTO:-0600
TZNAME:MDT
END:DAYLIGHT
END:VTIMEZONE
END:VCALENDAR