BEGIN:VCALENDAR
VERSION:2.0
PRODID:-//wp-events-plugin.com//7.2.3.1//EN
TZID:America/Boise
X-WR-TIMEZONE:America/Boise
BEGIN:VEVENT
UID:999@visitsalmonvalley.com
DTSTART;TZID=America/Boise:20260801T180000
DTEND;TZID=America/Boise:20260801T180000
DTSTAMP:20260409T174141Z
URL:https://www.visitsalmonvalley.com/salmon-events/much-ado-about-nothing
 /
SUMMARY:Much Ado About Nothing
DESCRIPTION:Free Performance - Come out and enjoy this Cultural & Education
 al Event!
CATEGORIES:Arts,Community Events
LOCATION:Sacajawea Center\, 2700 Main Street\, Salmon\, Idaho\, 83467\, Lem
 hi County\, United States
GEO:45.165638;-113.865373
X-APPLE-STRUCTURED-LOCATION;VALUE=URI;X-ADDRESS=2700 Main Street\, Salmon\,
  Idaho\, 83467\, Lemhi County\, United States;X-APPLE-RADIUS=100;X-TITLE=S
 acajawea Center:geo:45.165638,-113.865373
END:VEVENT
BEGIN:VTIMEZONE
TZID:America/Boise
X-LIC-LOCATION:America/Boise
BEGIN:DAYLIGHT
DTSTART:20260308T030000
TZOFFSETFROM:-0700
TZOFFSETTO:-0600
TZNAME:MDT
END:DAYLIGHT
END:VTIMEZONE
END:VCALENDAR