BEGIN:VCALENDAR
VERSION:2.0
PRODID:-//wp-events-plugin.com//7.2.3.1//EN
TZID:America/Boise
X-WR-TIMEZONE:America/Boise
BEGIN:VEVENT
UID:1009@visitsalmonvalley.com
DTSTART;TZID=America/Boise:20260430T180000
DTEND;TZID=America/Boise:20260430T180000
DTSTAMP:20260421T174935Z
URL:https://www.visitsalmonvalley.com/salmon-events/cheese-making-demonstr
 ation-class/
SUMMARY:Cheese Making Demonstration Class
DESCRIPTION:Cheese Making Demonstration Class!
CATEGORIES:Horse &amp; Ranch
LOCATION:Faline's Farm & Nature School\, 13 Pekus Lane\, Salmon\, United St
 ates
GEO:45.147699;-113.767157
X-APPLE-STRUCTURED-LOCATION;VALUE=URI;X-ADDRESS=13 Pekus Lane\, Salmon\, Un
 ited States;X-APPLE-RADIUS=100;X-TITLE=Faline's Farm & Nature School:geo:4
 5.147699,-113.767157
END:VEVENT
BEGIN:VTIMEZONE
TZID:America/Boise
X-LIC-LOCATION:America/Boise
BEGIN:DAYLIGHT
DTSTART:20260308T030000
TZOFFSETFROM:-0700
TZOFFSETTO:-0600
TZNAME:MDT
END:DAYLIGHT
END:VTIMEZONE
END:VCALENDAR